BEGIN:VCALENDAR
VERSION:2.0
PRODID:-//Språkskolen russisk.no &amp;Metodius da - ECPv4.9.9//NONSGML v1.0//EN
CALSCALE:GREGORIAN
METHOD:PUBLISH
X-WR-CALNAME:Språkskolen russisk.no &amp;Metodius da
X-ORIGINAL-URL:https://russisk.no
X-WR-CALDESC:Events for Språkskolen russisk.no &amp;Metodius da
BEGIN:VTIMEZONE
TZID:Europe/Oslo
BEGIN:DAYLIGHT
TZOFFSETFROM:+0100
TZOFFSETTO:+0200
TZNAME:CEST
DTSTART:20190331T010000
END:DAYLIGHT
BEGIN:STANDARD
TZOFFSETFROM:+0200
TZOFFSETTO:+0100
TZNAME:CET
DTSTART:20191027T010000
END:STANDARD
END:VTIMEZONE
BEGIN:VEVENT
DTSTART;TZID=Europe/Oslo:20190318T090000
DTEND;TZID=Europe/Oslo:20190318T103000
DTSTAMP:20260419T204345
CREATED:20190311T234313Z
LAST-MODIFIED:20190422T191220Z
UID:3407-1552899600-1552905000@russisk.no
SUMMARY:A1-2 formiddager
DESCRIPTION:Om A1-2 formiddager\nTidspunkt: mandager og torsdager kl.  09.00 – 10.30. \nFørste gang 18. mars. ? Siste gang: 06. juni 2019. \nTimer: 38 timer. 19 ganger. \n  \nForkunnskaper:\n«Ta russisk nybegynnerkurs» og 5 leksjoner i «Ta russisk A1-nivå» av Z. Nikolskaia \n\n\nHvor: Majorstuveien 13A\, i skolens lokaler.\nPris: Kurspris kr 6916\,-\n\n\n\nDette kurset er for deg som er ferdig med nybegynnerkurs ved Språkskolen russisk.no &Metodius og har tilegnet deg det som står i «Ta russisk nybegynnerkurs» av Zoia Nikolskaia. Har du studert russisk på en annen måte og har tilsvarende kunnskaper tilbys online test. \n
URL:https://russisk.no/arrangement/a1-2-formiddager/2019-03-18/
LOCATION:Russisk.no &METODIUS\, Majorstuveien 13 A\, Oslo\, 0353\, Norge
CATEGORIES:Alle tilbud,Timeplan kurs
ORGANIZER;CN="Russisk.no%20%26METODIUS":MAILTO:etmetodius@russisk.no
GEO:59.9138688;10.7522454
X-APPLE-STRUCTURED-LOCATION;VALUE=URI;X-ADDRESS=Russisk.no &METODIUS Majorstuveien 13 A Oslo 0353 Norge;X-APPLE-RADIUS=500;X-TITLE=Majorstuveien 13 A:geo:10.7522454,59.9138688
END:VEVENT
END:VCALENDAR