BEGIN:VCALENDAR
VERSION:2.0
PRODID:-//Språkskolen russisk.no &amp;Metodius da - ECPv4.9.9//NONSGML v1.0//EN
CALSCALE:GREGORIAN
METHOD:PUBLISH
X-WR-CALNAME:Språkskolen russisk.no &amp;Metodius da
X-ORIGINAL-URL:https://russisk.no
X-WR-CALDESC:Events for Språkskolen russisk.no &amp;Metodius da
BEGIN:VTIMEZONE
TZID:Europe/Oslo
BEGIN:DAYLIGHT
TZOFFSETFROM:+0100
TZOFFSETTO:+0200
TZNAME:CEST
DTSTART:20230326T010000
END:DAYLIGHT
BEGIN:STANDARD
TZOFFSETFROM:+0200
TZOFFSETTO:+0100
TZNAME:CET
DTSTART:20231029T010000
END:STANDARD
END:VTIMEZONE
BEGIN:VEVENT
DTSTART;TZID=Europe/Oslo:20230118T163000
DTEND;TZID=Europe/Oslo:20230118T180000
DTSTAMP:20260421T093056
CREATED:20221123T213346Z
LAST-MODIFIED:20230103T231427Z
UID:9596-1674059400-1674064800@russisk.no
SUMMARY:Kurs for nybegynnere (A0)
DESCRIPTION:https://russisk.no/kurs/nybegynner/ettermiddag/ \n
URL:https://russisk.no/arrangement/kurs-for-nybegynnere-a0/2023-01-18/
LOCATION:Oslo\, Norge
CATEGORIES:Alle tilbud,Timeplan kurs
ORGANIZER;CN="Russisk.no%20%26METODIUS":MAILTO:etmetodius@russisk.no
END:VEVENT
END:VCALENDAR