BEGIN:VCALENDAR
VERSION:2.0
PRODID:-//Språkskolen russisk.no &amp;Metodius da - ECPv4.9.9//NONSGML v1.0//EN
CALSCALE:GREGORIAN
METHOD:PUBLISH
X-WR-CALNAME:Språkskolen russisk.no &amp;Metodius da
X-ORIGINAL-URL:https://russisk.no
X-WR-CALDESC:Events for Språkskolen russisk.no &amp;Metodius da
BEGIN:VTIMEZONE
TZID:Europe/Oslo
BEGIN:DAYLIGHT
TZOFFSETFROM:+0100
TZOFFSETTO:+0200
TZNAME:CEST
DTSTART:20180325T010000
END:DAYLIGHT
BEGIN:STANDARD
TZOFFSETFROM:+0200
TZOFFSETTO:+0100
TZNAME:CET
DTSTART:20181028T010000
END:STANDARD
END:VTIMEZONE
BEGIN:VEVENT
DTSTART;TZID=Europe/Oslo:20181214T180000
DTEND;TZID=Europe/Oslo:20181214T190000
DTSTAMP:20260419T174748
CREATED:20181213T214751Z
LAST-MODIFIED:20181213T220446Z
UID:2805-1544810400-1544814000@russisk.no
SUMMARY:Møte 14. desember i Klubb Samåvar
DESCRIPTION:På møte den 14. desember skal Zoia fortelle om eksamner ved Språkskolen russisk.no &Metodius. Det er flere. &Metodius tilbyr offentlig sertifiseringsprøver som arrangeres i samarbeid med universitetet i Moskva. Dessuten tilbs prøver i forkant av sertifiseringsprøver som har identisk struktur med sertifiseringsprøver. Utenom dette finnes flere som blir omtalt på møtet. \n
URL:https://russisk.no/arrangement/mote-14-desember-i-klubb-samavar/
LOCATION:Russisk.no &METODIUS\, Majorstuveien 13 A\, Oslo\, 0353\, Norge
CATEGORIES:Alle tilbud
ORGANIZER;CN="Russisk.no%20%26METODIUS":MAILTO:etmetodius@russisk.no
GEO:59.9138688;10.7522454
X-APPLE-STRUCTURED-LOCATION;VALUE=URI;X-ADDRESS=Russisk.no &METODIUS Majorstuveien 13 A Oslo 0353 Norge;X-APPLE-RADIUS=500;X-TITLE=Majorstuveien 13 A:geo:10.7522454,59.9138688
END:VEVENT
END:VCALENDAR