BEGIN:VCALENDAR
VERSION:2.0
PRODID:-//Språkskolen russisk.no &amp;Metodius da - ECPv4.9.9//NONSGML v1.0//EN
CALSCALE:GREGORIAN
METHOD:PUBLISH
X-WR-CALNAME:Språkskolen russisk.no &amp;Metodius da
X-ORIGINAL-URL:https://russisk.no
X-WR-CALDESC:Events for Språkskolen russisk.no &amp;Metodius da
BEGIN:VTIMEZONE
TZID:Europe/Oslo
BEGIN:DAYLIGHT
TZOFFSETFROM:+0100
TZOFFSETTO:+0200
TZNAME:CEST
DTSTART:20200329T010000
END:DAYLIGHT
BEGIN:STANDARD
TZOFFSETFROM:+0200
TZOFFSETTO:+0100
TZNAME:CET
DTSTART:20201025T010000
END:STANDARD
END:VTIMEZONE
BEGIN:VEVENT
DTSTART;TZID=Europe/Oslo:20201013T080000
DTEND;TZID=Europe/Oslo:20201013T084500
DTSTAMP:20260421T093628
CREATED:20200929T232147Z
LAST-MODIFIED:20200929T232147Z
UID:6579-1602576000-1602578700@russisk.no
SUMMARY:Nybegynnerkurs (A0) online - start 13. oktober
DESCRIPTION:Om kurset \n\nTidspunkt: kl. 08.00-08.45\, tirsdager og torsdager\n\nFørste gang 13. oktober 2020. \nSiste gang: 17. desember 2020.\nTimer pr dag: 1 skoletime á 45 min.\nAntall timer totalt: 19 timer\nForkunnskaper: ingen\nHvor: Majorstuveien 13 A\, online i zoom\n\nPris: kr 4284\nPrisen inkluderer:\n\nkurs\,\nlærebok m/online lyd\,\n3 plansjer\,\nhjemmelekser på vår læringsplattform\,\nom nødvendig: teknisk hjelp for å komme i gang\n\nUndervisningsmateriell (lærebok og plansjer) tilbys i papirutgave (hent selv eller tilsendt med post) og online.\nKurstimene foregår i videokonferanseprogrammet Zoom\, hjemmelekser publiseres i vår online læringsplattform og  innleveres også der. \n
URL:https://russisk.no/arrangement/nybegynnerkurs-a0-online-start-13-oktober/2020-10-13/
LOCATION:Oslo\, Norge
CATEGORIES:Alle tilbud,Timeplan kurs
END:VEVENT
END:VCALENDAR